BEGIN:VCALENDAR
VERSION:2.0
PRODID:-//Shelby Township Oceana - ECPv6.15.11//NONSGML v1.0//EN
CALSCALE:GREGORIAN
METHOD:PUBLISH
X-WR-CALNAME:Shelby Township Oceana
X-ORIGINAL-URL:https://www.shelbytownshipoceana.com
X-WR-CALDESC:Events for Shelby Township Oceana
REFRESH-INTERVAL;VALUE=DURATION:PT1H
X-Robots-Tag:noindex
X-PUBLISHED-TTL:PT1H
BEGIN:VTIMEZONE
TZID:UTC
BEGIN:STANDARD
TZOFFSETFROM:+0000
TZOFFSETTO:+0000
TZNAME:UTC
DTSTART:20200101T000000
END:STANDARD
END:VTIMEZONE
BEGIN:VEVENT
DTSTART;TZID=UTC:20210607T190000
DTEND;TZID=UTC:20210607T210000
DTSTAMP:20260421T123226
CREATED:20210422T181408Z
LAST-MODIFIED:20210517T152751Z
UID:306-1623092400-1623099600@www.shelbytownshipoceana.com
SUMMARY:Township Board Meeting - 6/7/21
DESCRIPTION:In-person with current COVID restriction \nZoom info: \nhttps://us02web.zoom.us/j/3322419785?pwd=QzNNeklsRXIzV2p3VVdhOS9aQVVMZz09 \nMeeting ID: 332 241 9785\nPasscode: 2B94HM\nOne tap mobile\n+13126266799\,\,3322419785#\,\,\,\,*678951# US (Chicago)\n+16465588656\,\,3322419785#\,\,\,\,*678951# US (New York) \nDial by your location\n+1 312 626 6799 US (Chicago)\n+1 646 558 8656 US (New York)\n+1 301 715 8592 US (Washington DC)\n+1 346 248 7799 US (Houston)\n+1 669 900 9128 US (San Jose)\n+1 253 215 8782 US (Tacoma)\nMeeting ID: 332 241 9785\nPasscode: 678951\nFind your local number: https://us02web.zoom.us/u/kbx9id90oU \n 
URL:https://www.shelbytownshipoceana.com/event/township-board-meeting-6-7-21
LOCATION:Shelby Township\, 204 N. Michigan Ave\, Shelby\, MI\, 49455\, United States
CATEGORIES:Township Board Meeting
END:VEVENT
END:VCALENDAR