BEGIN:VCALENDAR
VERSION:2.0
PRODID:-//Shelby Township Oceana - ECPv6.15.11//NONSGML v1.0//EN
CALSCALE:GREGORIAN
METHOD:PUBLISH
X-WR-CALNAME:Shelby Township Oceana
X-ORIGINAL-URL:https://www.shelbytownshipoceana.com
X-WR-CALDESC:Events for Shelby Township Oceana
REFRESH-INTERVAL;VALUE=DURATION:PT1H
X-Robots-Tag:noindex
X-PUBLISHED-TTL:PT1H
BEGIN:VTIMEZONE
TZID:UTC
BEGIN:STANDARD
TZOFFSETFROM:+0000
TZOFFSETTO:+0000
TZNAME:UTC
DTSTART:20200101T000000
END:STANDARD
END:VTIMEZONE
BEGIN:VEVENT
DTSTART;TZID=UTC:20210503T190000
DTEND;TZID=UTC:20210503T210000
DTSTAMP:20260421T142538
CREATED:20210422T144801Z
LAST-MODIFIED:20210422T181328Z
UID:301-1620068400-1620075600@www.shelbytownshipoceana.com
SUMMARY:Township Board Meeting - 5/3/21
DESCRIPTION:In-Person and Conference Call \n978-990-5415 access code 655002
URL:https://www.shelbytownshipoceana.com/event/township-board-meeting
LOCATION:Shelby Township\, 204 N. Michigan Ave\, Shelby\, MI\, 49455\, United States
CATEGORIES:Township Board Meeting
END:VEVENT
BEGIN:VEVENT
DTSTART;TZID=UTC:20210525T110000
DTEND;TZID=UTC:20210525T130000
DTSTAMP:20260421T142538
CREATED:20210521T183847Z
LAST-MODIFIED:20210521T184200Z
UID:361-1621940400-1621947600@www.shelbytownshipoceana.com
SUMMARY:Special Board Meeting - 5/25/21
DESCRIPTION:Special Board Meeting \nTuesday\, May 25\, 2021 \n11 am \nZoom info: \nhttps://us02web.zoom.us/j/3322419785?pwd=QzNNeklsRXIzV2p3VVdhOS9aQVVMZz09 \nMeeting ID: 332 241 9785\nPasscode: 2B94HM
URL:https://www.shelbytownshipoceana.com/event/special-board-meeting-5-25-21
LOCATION:Shelby Township\, 204 N. Michigan Ave\, Shelby\, MI\, 49455\, United States
CATEGORIES:Township Board Meeting
END:VEVENT
END:VCALENDAR